BEGIN:VCALENDAR
VERSION:2.0
PRODID:-//eventon.com NONSGML v1.0//EN
CALSCALE:GREGORIAN
METHOD:PUBLISH
BEGIN:VEVENT
UID:69e734add8c1c
DTSTAMP:20260421T082621Z
DTSTART:20260626
DTEND:20260627
LOCATION:
SUMMARY:Friday June 26
DESCRIPTION:[vc_row][vc_column][vc_column_text css=&#8221;&#8221;] Friday\,
   June 26 [/vc_column_text][/vc_column][/vc_row][vc_row equal_height=&#8221
 ;yes&#8221; content_placement=&#8221;middle&#8221;][vc_column width=&#8221;
 1/2&#8243;][vc_single_image image=&#8221;2903&#8243; img_size=&#8221;full&#
 8221; css=&#8221;&#8221;][/vc_column][vc_column width=&#8221;1/2&#8243;][vc
 _column_text css=&#8221;&#8221;] 8:00AM: Hatha Yoga on Tranquility Beach *m
 ust sign up by 6:00PM night prior 9:45AM: Largo Larry’s Half Day Snorkel 
 Excursion (not included\,  reservations required) 12:00PM: Live Entertainme
 nt on Tiki Beach 12:00-4:00PM: Tiki Boat Cruises &#8211; offered[..]\nhttps
 ://www.bungalowskeylargo.com/events/friday-june-26/
URL:https://www.bungalowskeylargo.com/events/friday-june-26/
END:VEVENT
END:VCALENDAR